BEGIN:VCALENDAR
VERSION:2.0
PRODID:-//dhtmlXScheduler//NONSGML v2.2//EN
X-WR-CALNAME:Wydarzenia
BEGIN:VEVENT
DTSTART:20240205T130000
DTEND:20240205T143000
UID:0
SUMMARY:"Historia gospodarki odpadami"
END:VEVENT
BEGIN:VEVENT
DTSTART:20240215T110000
DTEND:20240215T133000
UID:1
SUMMARY:Mieląc kostki - wykład PTChem
END:VEVENT
BEGIN:VEVENT
DTSTART:20240219T130000
DTEND:20240219T150000
UID:2
SUMMARY:"Metoda Naukowa"
END:VEVENT
BEGIN:VEVENT
DTSTART:20240229T130000
DTEND:20240301T112000
UID:3
SUMMARY:Nauka w młodych rękach
END:VEVENT
BEGIN:VEVENT
DTSTART:20240606T120000
DTEND:20260425T130943
UID:4
SUMMARY:Wykład PTChem - Otrzymywanie fosforanów wapnia z odpadów rolniczych
END:VEVENT
BEGIN:VEVENT
DTSTART:20240611T170000
DTEND:20260425T130943
UID:5
SUMMARY:Zaproszenie na urodziny Wydziału Chemii
END:VEVENT
BEGIN:VEVENT
DTSTART:20240612T083000
DTEND:20260425T130943
UID:6
SUMMARY:Wybory 3 przedstawicieli do Senatu
END:VEVENT
BEGIN:VEVENT
DTSTART:20240617T100000
DTEND:20260425T130943
UID:7
SUMMARY:Wybory do Senatu
END:VEVENT
BEGIN:VEVENT
DTSTART:20240619T120000
DTEND:20260425T130943
UID:8
SUMMARY:Wybory do Rady Wydziału Chemii
END:VEVENT
BEGIN:VEVENT
DTSTART:20240619T130000
DTEND:20260425T130943
UID:9
SUMMARY:Wybory do Rady Wydziału Chemii
END:VEVENT
BEGIN:VEVENT
DTSTART:20241128T170000
DTEND:20260425T130943
UID:10
SUMMARY:Zapraszamy na spotkanie KNCh UwB "Pozyton"
END:VEVENT
BEGIN:VEVENT
DTSTART:20241210T131500
DTEND:20260425T130943
UID:11
SUMMARY:Rola i zadania medycyny sądowej
END:VEVENT
BEGIN:VEVENT
DTSTART:20260312T094500
DTEND:20260425T130943
UID:12
SUMMARY:„Co daje chemia medyczna, czyli PAINS & GAINS in Medicinal Chemistry”
END:VEVENT
END:VCALENDAR