BEGIN:VCALENDAR
VERSION:2.0
PRODID:-//dhtmlXScheduler//NONSGML v2.2//EN
X-WR-CALNAME:Wydarzenia
BEGIN:VEVENT
DTSTART:20250203T113000
DTEND:20250203T000000
UID:0
SUMMARY:Seminarium Wydziałowe APPLICATION OF SURFACE PLASMON RESONANCE
END:VEVENT
BEGIN:VEVENT
DTSTART:20250206T000000
DTEND:20250207T000000
UID:1
SUMMARY:Zjazd Dziekanów Wydziałów Chemicznych
END:VEVENT
BEGIN:VEVENT
DTSTART:20250214T110000
DTEND:20250214T140000
UID:2
SUMMARY:Wykłady i warsztaty dla uczniów klas 7-8 szkół podstawowych
END:VEVENT
BEGIN:VEVENT
DTSTART:20250221T110000
DTEND:20250221T123000
UID:3
SUMMARY:Wykład o chemii miłości
END:VEVENT
BEGIN:VEVENT
DTSTART:20250226T093000
DTEND:20250226T104500
UID:4
SUMMARY:Warsztaty chemiczne dla uczniów Szkoły Podstawowej
END:VEVENT
BEGIN:VEVENT
DTSTART:20260312T094500
DTEND:20260424T153300
UID:5
SUMMARY:„Co daje chemia medyczna, czyli PAINS & GAINS in Medicinal Chemistry”
END:VEVENT
END:VCALENDAR