BEGIN:VCALENDAR
VERSION:2.0
PRODID:-//dhtmlXScheduler//NONSGML v2.2//EN
X-WR-CALNAME:Wydarzenia
BEGIN:VEVENT
DTSTART:20241210T131500
DTEND:20260424T190255
UID:0
SUMMARY:Rola i zadania medycyny sądowej
END:VEVENT
BEGIN:VEVENT
DTSTART:20241211T133000
DTEND:20241211T150000
UID:1
SUMMARY:Wykład mgr Marcina Zająca ze Szkoły Doktorskiej UwB
END:VEVENT
BEGIN:VEVENT
DTSTART:20260312T094500
DTEND:20260424T190255
UID:2
SUMMARY:„Co daje chemia medyczna, czyli PAINS & GAINS in Medicinal Chemistry”
END:VEVENT
END:VCALENDAR