BEGIN:VCALENDAR
VERSION:2.0
PRODID:-//dhtmlXScheduler//NONSGML v2.2//EN
X-WR-CALNAME:Wydarzenia
BEGIN:VEVENT
DTSTART:20250926T120000
DTEND:20250926T140000
UID:1
SUMMARY:Chemia w epoce algorytmów i robotów - rewolucja, która już trwa
END:VEVENT
END:VCALENDAR