BEGIN:VCALENDAR
VERSION:2.0
PRODID:-//dhtmlXScheduler//NONSGML v2.2//EN
X-WR-CALNAME:Wydarzenia
BEGIN:VEVENT
DTSTART:20250522T120000
DTEND:20250522T140000
UID:1
SUMMARY:O delokalizacji π w nienasyconych strukturach węglowych
END:VEVENT
END:VCALENDAR