BEGIN:VCALENDAR
VERSION:2.0
PRODID:-//dhtmlXScheduler//NONSGML v2.2//EN
X-WR-CALNAME:Wydarzenia
BEGIN:VEVENT
DTSTART:20230302T133000
DTEND:20230302T000000
UID:1
SUMMARY:Seminarium Wydziałowe 2.03.2023
END:VEVENT
END:VCALENDAR