BEGIN:VCALENDAR
VERSION:2.0
PRODID:-//dhtmlXScheduler//NONSGML v2.2//EN
X-WR-CALNAME:Wydarzenia
BEGIN:VEVENT
DTSTART:20230428T101500
DTEND:20230428T120000
UID:1
SUMMARY:Seminarium Wydziałowe 28.04.2023
END:VEVENT
END:VCALENDAR