BEGIN:VCALENDAR
VERSION:2.0
PRODID:-//dhtmlXScheduler//NONSGML v2.2//EN
X-WR-CALNAME:Wydarzenia
BEGIN:VEVENT
DTSTART:20250203T113000
DTEND:20250203T000000
UID:1
SUMMARY:Seminarium Wydziałowe APPLICATION OF SURFACE PLASMON RESONANCE
END:VEVENT
END:VCALENDAR