BEGIN:VCALENDAR
VERSION:2.0
PRODID:-//dhtmlXScheduler//NONSGML v2.2//EN
X-WR-CALNAME:Wydarzenia
BEGIN:VEVENT
DTSTART:20221208T120000
DTEND:20221208T131500
UID:1
SUMMARY:Seminarium Wydziałowe
END:VEVENT
END:VCALENDAR