BEGIN:VCALENDAR
VERSION:2.0
PRODID:-//dhtmlXScheduler//NONSGML v2.2//EN
X-WR-CALNAME:Wydarzenia
BEGIN:VEVENT
DTSTART:20250423T100000
DTEND:20250423T113000
UID:1
SUMMARY:Warsztaty laboratoryjne dla dzieci z przedszkola w Gródku
END:VEVENT
END:VCALENDAR