BEGIN:VCALENDAR
VERSION:2.0
PRODID:-//dhtmlXScheduler//NONSGML v2.2//EN
X-WR-CALNAME:Wydarzenia
BEGIN:VEVENT
DTSTART:20250403T113000
DTEND:20250403T133000
UID:1
SUMMARY:Wprowadzenie do „chemicznej" technologii jądrowej
END:VEVENT
END:VCALENDAR