BEGIN:VCALENDAR
VERSION:2.0
PRODID:-//dhtmlXScheduler//NONSGML v2.2//EN
X-WR-CALNAME:Wydarzenia
BEGIN:VEVENT
DTSTART:20240415T113000
DTEND:20240415T130000
UID:1
SUMMARY:Wykład Pani dr Marty Szal
END:VEVENT
END:VCALENDAR