BEGIN:VCALENDAR
VERSION:2.0
PRODID:-//dhtmlXScheduler//NONSGML v2.2//EN
X-WR-CALNAME:Wydarzenia
BEGIN:VEVENT
DTSTART:20250331T111500
DTEND:20250331T131500
UID:1
SUMMARY:Wykład w ramach cyklu "Spotkań u Chemików"
END:VEVENT
END:VCALENDAR