BEGIN:VCALENDAR
VERSION:2.0
PRODID:-//dhtmlXScheduler//NONSGML v2.2//EN
X-WR-CALNAME:Wydarzenia
BEGIN:VEVENT
DTSTART:20260220T120000
DTEND:20260220T130000
UID:1
SUMMARY:Wykład w ramach cyklu "Spotkań u Chemików"
END:VEVENT
END:VCALENDAR