BEGIN:VCALENDAR
VERSION:2.0
PRODID:-//dhtmlXScheduler//NONSGML v2.2//EN
X-WR-CALNAME:Wydarzenia
BEGIN:VEVENT
DTSTART:20260212T110000
DTEND:20260212T130000
UID:1
SUMMARY:Zaproszenie na wykład: „Inteligentne” nośniki leków - przyszłość terapii
END:VEVENT
END:VCALENDAR